BEGIN:VCALENDAR
VERSION:2.0
PRODID:-//Doppelpunkt//Events//DE
CALSCALE:GREGORIAN
METHOD:PUBLISH
BEGIN:VEVENT
UID:event-1168@www.doppelpunkt.de
DTSTAMP:20260421T014435
DTSTART:20260104T160000
DTEND:20260104T160000
SUMMARY:Orchester Ventuno & Elisen-Quartett: Neujahrskonzert mit Werken von Kreisler\, Ysaye u. Suk
LOCATION:Kulturforum Fürth\, Würzburger Straße 2\, 90762 Fürth
STATUS:CONFIRMED
END:VEVENT
END:VCALENDAR