BEGIN:VCALENDAR
VERSION:2.0
PRODID:-//Doppelpunkt//Events//DE
CALSCALE:GREGORIAN
METHOD:PUBLISH
BEGIN:VEVENT
UID:event-107@www.doppelpunkt.de
DTSTAMP:20260421T105505
DTSTART:20251221T190000
DTEND:20251221T190000
SUMMARY:Saal: Birdi's Bohemian Brezel Spekulatius Supreme Bingo
LOCATION:Z-Bau\, Frankenstr. 200\, 90461 Nürnberg
STATUS:CONFIRMED
END:VEVENT
END:VCALENDAR