BEGIN:VCALENDAR
VERSION:2.0
PRODID:-//Doppelpunkt//Events//DE
CALSCALE:GREGORIAN
METHOD:PUBLISH
BEGIN:VEVENT
UID:event-1059@www.doppelpunkt.de
DTSTAMP:20260425T122906
DTSTART:20260201T200000
DTEND:20260201T200000
SUMMARY:Kellerbühne: "Jazz4free": Grandessa
LOCATION:E-Werk\, Fuchsenwiese 1\, 91054 Erlangen
STATUS:CONFIRMED
END:VEVENT
END:VCALENDAR