BEGIN:VCALENDAR
VERSION:2.0
PRODID:-//Doppelpunkt//Events//DE
CALSCALE:GREGORIAN
METHOD:PUBLISH
BEGIN:VEVENT
UID:event-1058@www.doppelpunkt.de
DTSTAMP:20260421T170056
DTSTART:20251220T200000
DTEND:20251220T200000
SUMMARY:Kellerbühne: "Umsonst & Drinnen": Mautz Brothers (Folk)
LOCATION:E-Werk\, Fuchsenwiese 1\, 91054 Erlangen
STATUS:CONFIRMED
END:VEVENT
END:VCALENDAR